BEGIN:VCALENDAR
VERSION:2.0
PRODID:-//Minden Chamber of Commerce - ECPv6.15.13//NONSGML v1.0//EN
CALSCALE:GREGORIAN
METHOD:PUBLISH
X-WR-CALNAME:Minden Chamber of Commerce
X-ORIGINAL-URL:https://www.mindenne.org
X-WR-CALDESC:Events for Minden Chamber of Commerce
REFRESH-INTERVAL;VALUE=DURATION:PT1H
X-Robots-Tag:noindex
X-PUBLISHED-TTL:PT1H
BEGIN:VTIMEZONE
TZID:America/Chicago
BEGIN:DAYLIGHT
TZOFFSETFROM:-0600
TZOFFSETTO:-0500
TZNAME:CDT
DTSTART:20250309T080000
END:DAYLIGHT
BEGIN:STANDARD
TZOFFSETFROM:-0500
TZOFFSETTO:-0600
TZNAME:CST
DTSTART:20251102T070000
END:STANDARD
BEGIN:DAYLIGHT
TZOFFSETFROM:-0600
TZOFFSETTO:-0500
TZNAME:CDT
DTSTART:20260308T080000
END:DAYLIGHT
BEGIN:STANDARD
TZOFFSETFROM:-0500
TZOFFSETTO:-0600
TZNAME:CST
DTSTART:20261101T070000
END:STANDARD
BEGIN:DAYLIGHT
TZOFFSETFROM:-0600
TZOFFSETTO:-0500
TZNAME:CDT
DTSTART:20270314T080000
END:DAYLIGHT
BEGIN:STANDARD
TZOFFSETFROM:-0500
TZOFFSETTO:-0600
TZNAME:CST
DTSTART:20271107T070000
END:STANDARD
END:VTIMEZONE
BEGIN:VEVENT
DTSTART;TZID=America/Chicago:20260319T183000
DTEND;TZID=America/Chicago:20260319T210000
DTSTAMP:20260420T181523
CREATED:20260302T170047Z
LAST-MODIFIED:20260302T170109Z
UID:7073-1773945000-1773954000@www.mindenne.org
SUMMARY:Music Bingo at 52 Taphouse sponsored by EXP Realty
DESCRIPTION:
URL:https://www.mindenne.org/event/music-bingo-at-52-taphouse-sponsored-by-exp-realty/
LOCATION:52 Taphouse\, 345 N. Colorado Ave.\, Minden\, NE\, 68959\, United States
END:VEVENT
BEGIN:VEVENT
DTSTART;TZID=America/Chicago:20260320T193000
DTEND;TZID=America/Chicago:20260320T210000
DTSTAMP:20260420T181523
CREATED:20260302T135548Z
LAST-MODIFIED:20260302T135548Z
UID:7069-1774035000-1774040400@www.mindenne.org
SUMMARY:CLUE by Minden Community Players
DESCRIPTION:
URL:https://www.mindenne.org/event/clue-by-minden-community-players-7/
LOCATION:Minden Opera House\, 322 E 5th Street\, Minden\, NE\, 68959\, United States
END:VEVENT
BEGIN:VEVENT
DTSTART;TZID=America/Chicago:20260321T080000
DTEND;TZID=America/Chicago:20260321T150000
DTSTAMP:20260420T181523
CREATED:20260314T213312Z
LAST-MODIFIED:20260314T213312Z
UID:7082-1774080000-1774105200@www.mindenne.org
SUMMARY:Swap Meet & Craft Show - Jct. 6/10 Cruzerz
DESCRIPTION:
URL:https://www.mindenne.org/event/swap-meet-craft-show-jct-6-10-cruzerz/
LOCATION:Kearney County Fairgrounds\, 1220 32 Rd\, Minden\, NE\, 68959\, United States
END:VEVENT
BEGIN:VEVENT
DTSTART;TZID=America/Chicago:20260321T193000
DTEND;TZID=America/Chicago:20260321T210000
DTSTAMP:20260420T181523
CREATED:20260302T135634Z
LAST-MODIFIED:20260302T135634Z
UID:7070-1774121400-1774126800@www.mindenne.org
SUMMARY:CLUE by Minden Community Players
DESCRIPTION:
URL:https://www.mindenne.org/event/clue-by-minden-community-players-8/
LOCATION:Minden Opera House\, 322 E 5th Street\, Minden\, NE\, 68959\, United States
END:VEVENT
BEGIN:VEVENT
DTSTART;TZID=America/Chicago:20260322T143000
DTEND;TZID=America/Chicago:20260322T160000
DTSTAMP:20260420T181523
CREATED:20260302T135714Z
LAST-MODIFIED:20260302T135714Z
UID:7071-1774189800-1774195200@www.mindenne.org
SUMMARY:CLUE by Minden Community Players
DESCRIPTION:
URL:https://www.mindenne.org/event/clue-by-minden-community-players-9/
LOCATION:Minden Opera House\, 322 E 5th Street\, Minden\, NE\, 68959\, United States
END:VEVENT
BEGIN:VEVENT
DTSTART;TZID=America/Chicago:20260325T190000
DTEND;TZID=America/Chicago:20260325T200000
DTSTAMP:20260420T181523
CREATED:20260323T135901Z
LAST-MODIFIED:20260323T135901Z
UID:7088-1774465200-1774468800@www.mindenne.org
SUMMARY:Christmas City Experience Meeting
DESCRIPTION:
URL:https://www.mindenne.org/event/christmas-city-experience-meeting/
LOCATION:Minden Opera House\, 322 E 5th Street\, Minden\, NE\, 68959\, United States
END:VEVENT
BEGIN:VEVENT
DTSTART;TZID=America/Chicago:20260328T190000
DTEND;TZID=America/Chicago:20260328T210000
DTSTAMP:20260420T181523
CREATED:20260323T131652Z
LAST-MODIFIED:20260325T173058Z
UID:7086-1774724400-1774731600@www.mindenne.org
SUMMARY:Rick Cook - Tribute to the King - Minden Opera House
DESCRIPTION:
URL:https://www.mindenne.org/event/rich-cook-tribute-to-the-king-minden-opera-house/
LOCATION:Minden Opera House\, 322 E 5th Street\, Minden\, NE\, 68959\, United States
END:VEVENT
BEGIN:VEVENT
DTSTART;TZID=America/Chicago:20260404T110000
DTEND;TZID=America/Chicago:20260404T140000
DTSTAMP:20260420T181523
CREATED:20260304T160914Z
LAST-MODIFIED:20260304T160914Z
UID:7076-1775300400-1775311200@www.mindenne.org
SUMMARY:Minden Lions Club Easter Egg Hunt
DESCRIPTION:
URL:https://www.mindenne.org/event/minden-lions-club-easter-egg-hunt/
LOCATION:Jaycee Park\, 246 E Campbell St\,\, Minden\, NE\, 68959\, United States
END:VEVENT
BEGIN:VEVENT
DTSTART;TZID=America/Chicago:20260408T160000
DTEND;TZID=America/Chicago:20260408T190000
DTSTAMP:20260420T181523
CREATED:20260406T142544Z
LAST-MODIFIED:20260406T142544Z
UID:7096-1775664000-1775674800@www.mindenne.org
SUMMARY:Minden Wellness Event
DESCRIPTION:
URL:https://www.mindenne.org/event/minden-wellness-event/
LOCATION:Minden Dental\, 110 E. Hawthorne\, Minden\, NE\, 68959\, United States
END:VEVENT
BEGIN:VEVENT
DTSTART;TZID=America/Chicago:20260411T080000
DTEND;TZID=America/Chicago:20260411T110000
DTSTAMP:20260420T181523
CREATED:20260109T141112Z
LAST-MODIFIED:20260112T135518Z
UID:7005-1775894400-1775905200@www.mindenne.org
SUMMARY:Cars & Coffee - Jct 6/10 Cruzerz
DESCRIPTION:
URL:https://www.mindenne.org/event/cars-coffee-jct-6-10-cruzerz-7/
LOCATION:Pioneer Village\, 138 E. US Highway 6\, Minden\, NE\, 68959\, United States
END:VEVENT
BEGIN:VEVENT
DTSTART;TZID=America/Chicago:20260417T090000
DTEND;TZID=America/Chicago:20260417T120000
DTSTAMP:20260420T181523
CREATED:20260413T150002Z
LAST-MODIFIED:20260413T150002Z
UID:7104-1776416400-1776427200@www.mindenne.org
SUMMARY:Mobile Produce Pantry
DESCRIPTION:
URL:https://www.mindenne.org/event/mobile-produce-pantry/
LOCATION:NE
END:VEVENT
BEGIN:VEVENT
DTSTART;TZID=America/Chicago:20260417T180000
DTEND;TZID=America/Chicago:20260417T210000
DTSTAMP:20260420T181523
CREATED:20260410T124431Z
LAST-MODIFIED:20260410T124431Z
UID:7101-1776448800-1776459600@www.mindenne.org
SUMMARY:Brady James at 52 Taphouse
DESCRIPTION:Brady James will provide live music starting at 7pm. There will be a nachos & tacos food truck at 6pm.
URL:https://www.mindenne.org/event/brady-james-at-52-taphouse/
LOCATION:52 Taphouse\, 345 N. Colorado Ave.\, Minden\, NE\, 68959\, United States
END:VEVENT
BEGIN:VEVENT
DTSTART;TZID=America/Chicago:20260418T173000
DTEND;TZID=America/Chicago:20260418T220000
DTSTAMP:20260420T181523
CREATED:20260330T140525Z
LAST-MODIFIED:20260330T140628Z
UID:7092-1776533400-1776549600@www.mindenne.org
SUMMARY:Purple White Night - Minden Schools Foundation
DESCRIPTION:
URL:https://www.mindenne.org/event/purple-white-night-minden-schools-foundation-2/
LOCATION:Minden Opera House\, 322 E 5th Street\, Minden\, NE\, 68959\, United States
END:VEVENT
BEGIN:VEVENT
DTSTART;TZID=America/Chicago:20260420T110000
DTEND;TZID=America/Chicago:20260420T113000
DTSTAMP:20260420T181523
CREATED:20260417T121917Z
LAST-MODIFIED:20260417T121917Z
UID:7109-1776682800-1776684600@www.mindenne.org
SUMMARY:Royal Composites Ground Breaking
DESCRIPTION:
URL:https://www.mindenne.org/event/royal-composites-ground-breaking/
LOCATION:NE
END:VEVENT
BEGIN:VEVENT
DTSTART;TZID=America/Chicago:20260424T100000
DTEND;TZID=America/Chicago:20260424T120000
DTSTAMP:20260420T181523
CREATED:20260413T124956Z
LAST-MODIFIED:20260413T124956Z
UID:7102-1777024800-1777032000@www.mindenne.org
SUMMARY:Freitag Family Chiropractic Open House/Ribbon Cutting
DESCRIPTION:
URL:https://www.mindenne.org/event/freitag-family-chiropractic-open-house-ribbon-cutting/
LOCATION:Minden Dental\, 110 E. Hawthorne\, Minden\, NE\, 68959\, United States
END:VEVENT
BEGIN:VEVENT
DTSTART;TZID=America/Chicago:20260424T150000
DTEND;TZID=America/Chicago:20260424T160000
DTSTAMP:20260420T181523
CREATED:20260417T122229Z
LAST-MODIFIED:20260417T122229Z
UID:7111-1777042800-1777046400@www.mindenne.org
SUMMARY:Tri-Basin NRD Arbor Day Celebration
DESCRIPTION:
URL:https://www.mindenne.org/event/tri-basin-nrd-arbor-day-celebration/
LOCATION:Jaycee Park\, 246 E Campbell St\,\, Minden\, NE\, 68959\, United States
END:VEVENT
BEGIN:VEVENT
DTSTART;TZID=America/Chicago:20260425T170000
DTEND;TZID=America/Chicago:20260425T210000
DTSTAMP:20260420T181523
CREATED:20260309T130747Z
LAST-MODIFIED:20260309T130747Z
UID:7079-1777136400-1777150800@www.mindenne.org
SUMMARY:Paws Up Kearney County - "Shelter Me" Fundraiser
DESCRIPTION:
URL:https://www.mindenne.org/event/paws-up-kearney-county-shelter-me-fundraiser/
LOCATION:Minden Opera House\, 322 E 5th Street\, Minden\, NE\, 68959\, United States
END:VEVENT
BEGIN:VEVENT
DTSTART;TZID=America/Chicago:20260502T070000
DTEND;TZID=America/Chicago:20260502T110000
DTSTAMP:20260420T181523
CREATED:20260417T121728Z
LAST-MODIFIED:20260417T121728Z
UID:7107-1777705200-1777719600@www.mindenne.org
SUMMARY:Minden Volunteer Fire Dept. Pancake Feed
DESCRIPTION:
URL:https://www.mindenne.org/event/minden-volunteer-fire-dept-pancake-feed/
LOCATION:MVFD Fire Hall\, 325 N. Colorado Ave.\, Minden\, NE\, 68959\, United States
END:VEVENT
BEGIN:VEVENT
DTSTART;TZID=America/Chicago:20260502T080000
DTEND;TZID=America/Chicago:20260502T113000
DTSTAMP:20260420T181523
CREATED:20260410T124027Z
LAST-MODIFIED:20260410T124027Z
UID:7099-1777708800-1777721400@www.mindenne.org
SUMMARY:KCHS Auxiliary Plant & Bake Sale
DESCRIPTION:
URL:https://www.mindenne.org/event/kchs-auxiliary-plant-bake-sale-3/
LOCATION:St. Paul Lutheran Church\, 206 N. Colorado\, Minden\, NE\, 68959\, United States
END:VEVENT
BEGIN:VEVENT
DTSTART;TZID=America/Chicago:20260509T080000
DTEND;TZID=America/Chicago:20260509T110000
DTSTAMP:20260420T181523
CREATED:20260109T141201Z
LAST-MODIFIED:20260109T141201Z
UID:7007-1778313600-1778324400@www.mindenne.org
SUMMARY:Cars & Coffee - Jct 6/10 Cruzerz
DESCRIPTION:
URL:https://www.mindenne.org/event/cars-coffee-jct-6-10-cruzerz-8/
LOCATION:Pioneer Village\, 138 E. US Highway 6\, Minden\, NE\, 68959\, United States
END:VEVENT
BEGIN:VEVENT
DTSTART;VALUE=DATE:20260606
DTEND;VALUE=DATE:20260607
DTSTAMP:20260420T181523
CREATED:20260323T154711Z
LAST-MODIFIED:20260323T154711Z
UID:7090-1780704000-1780790399@www.mindenne.org
SUMMARY:Community Garage Sales
DESCRIPTION:
URL:https://www.mindenne.org/event/community-garage-sales/
LOCATION:NE
END:VEVENT
BEGIN:VEVENT
DTSTART;TZID=America/Chicago:20260613T080000
DTEND;TZID=America/Chicago:20260613T110000
DTSTAMP:20260420T181523
CREATED:20260109T141309Z
LAST-MODIFIED:20260109T141309Z
UID:7008-1781337600-1781348400@www.mindenne.org
SUMMARY:Cars & Coffee - Jct 6/10 Cruzerz
DESCRIPTION:
URL:https://www.mindenne.org/event/cars-coffee-jct-6-10-cruzerz-9/
LOCATION:Pioneer Village\, 138 E. US Highway 6\, Minden\, NE\, 68959\, United States
END:VEVENT
BEGIN:VEVENT
DTSTART;TZID=America/Chicago:20260711T080000
DTEND;TZID=America/Chicago:20260711T110000
DTSTAMP:20260420T181523
CREATED:20260109T141421Z
LAST-MODIFIED:20260109T141421Z
UID:7009-1783756800-1783767600@www.mindenne.org
SUMMARY:Cars & Coffee - Jct 6/10 Cruzerz
DESCRIPTION:
URL:https://www.mindenne.org/event/cars-coffee-jct-6-10-cruzerz-10/
LOCATION:Pioneer Village\, 138 E. US Highway 6\, Minden\, NE\, 68959\, United States
END:VEVENT
BEGIN:VEVENT
DTSTART;TZID=America/Chicago:20260808T080000
DTEND;TZID=America/Chicago:20260808T110000
DTSTAMP:20260420T181523
CREATED:20260109T141529Z
LAST-MODIFIED:20260109T141529Z
UID:7010-1786176000-1786186800@www.mindenne.org
SUMMARY:Cars & Coffee - Jct 6/10 Cruzerz
DESCRIPTION:
URL:https://www.mindenne.org/event/cars-coffee-jct-6-10-cruzerz-11/
LOCATION:Pioneer Village\, 138 E. US Highway 6\, Minden\, NE\, 68959\, United States
END:VEVENT
BEGIN:VEVENT
DTSTART;TZID=America/Chicago:20261010T080000
DTEND;TZID=America/Chicago:20261010T110000
DTSTAMP:20260420T181523
CREATED:20260109T141619Z
LAST-MODIFIED:20260109T141619Z
UID:7011-1791619200-1791630000@www.mindenne.org
SUMMARY:Cars & Coffee - Jct 6/10 Cruzerz
DESCRIPTION:
URL:https://www.mindenne.org/event/cars-coffee-jct-6-10-cruzerz-12/
LOCATION:Pioneer Village\, 138 E. US Highway 6\, Minden\, NE\, 68959\, United States
END:VEVENT
END:VCALENDAR